BEGIN:VCALENDAR
VERSION:2.0
CALSCALE:GREGORIAN
PRODID:-//Diputació de Barcelona//DibaCMS//EN
BEGIN:VEVENT
UID:6677
DTSTAMP:20260420T210801
DTSTART:20250816T180000
DTEND:20250816T190000
SUMMARY:XX CAMPIONAT DE PARXÍS
LOCATION:Plaça de les escoles 
METHOD:PUBLISH
X-WR-CALNAME:ullastrell@ullastrell.cat
X-WR-TIMEZONE:Europe/Madrid
DESCRIPTION:Torna el torneig més mític: una tarda de joc i punts pel recompte final. No hi faltis!

→ 3r premi 10 punts / 2n premi 20 punts / 1r premi 30 punts segons categoria. Categ. infantil i Categ. adult.

URI:https://www.ullastrell.cat/actualitat/agenda/xx-campionat-de-parxis.html
CLASS:PUBLIC
END:VEVENT
END:VCALENDAR
