BEGIN:VCALENDAR
VERSION:2.0
CALSCALE:GREGORIAN
PRODID:-//Diputació de Barcelona//DibaCMS//EN
BEGIN:VEVENT
UID:6679
DTSTAMP:20260420T224554
DTSTART:20250816T211500
DTEND:20250816T221500
SUMMARY:HAVANERES AMB MAR I VENT
LOCATION:C/ Serra, 17 08231 Ullastrell
METHOD:PUBLISH
X-WR-CALNAME:ullastrell@ullastrell.cat
X-WR-TIMEZONE:Europe/Madrid
DESCRIPTION:Un viatge cantat pel món de les havaneres, amb una actuació amena, apassionada i divertida que no us deixarà indiferents! Amb rom cremat.

URI:https://www.ullastrell.cat/actualitat/agenda/havaneres-amb-mar-i-vent.html
CLASS:PUBLIC
END:VEVENT
END:VCALENDAR
