BEGIN:VCALENDAR
VERSION:2.0
CALSCALE:GREGORIAN
PRODID:-//Diputació de Barcelona//DibaCMS//EN
BEGIN:VEVENT
UID:6680
DTSTAMP:20260420T212106
DTSTART:20250816T223000
DTEND:20250816T230000
SUMMARY:GALA DE PREMIS
LOCATION:C/ Serra, 17 08231 Ullastrell
METHOD:PUBLISH
X-WR-CALNAME:ullastrell@ullastrell.cat
X-WR-TIMEZONE:Europe/Madrid
DESCRIPTION:Després de tanta gresca, tancarem la Festa Major esbrinant un any més si serà ULLAS o TRELL qui onejarà la seva bandera els propers 365 dies de l’any!

URI:https://www.ullastrell.cat/actualitat/agenda/6680-gala-de-premis.html
CLASS:PUBLIC
END:VEVENT
END:VCALENDAR
