BEGIN:VCALENDAR
VERSION:2.0
CALSCALE:GREGORIAN
PRODID:-//Diputació de Barcelona//DibaCMS//EN
BEGIN:VEVENT
UID:6695
DTSTAMP:20260419T154548
DTSTART:20250916T190000
DTEND:20250916T200000
SUMMARY:Xerrada Esport i família
LOCATION:C/ Josep Fornell, s/n 08231 Ullastrell
METHOD:PUBLISH
X-WR-CALNAME:ullastrell@ullastrell.cat
X-WR-TIMEZONE:Europe/Madrid
DESCRIPTION:Activitats prèvies a la 3a edició de la Nit de l'esport xerrada de Pep Marí, psicòleg esportiu. 

Si tens un/a fill/a que fa esport, no te les pots perdre!! 

 

URI:https://www.ullastrell.cat/actualitat/agenda/xerrada-esport-i-familia.html
CLASS:PUBLIC
END:VEVENT
END:VCALENDAR
