BEGIN:VCALENDAR
VERSION:2.0
CALSCALE:GREGORIAN
PRODID:-//Diputació de Barcelona//DibaCMS//EN
BEGIN:VEVENT
UID:6705
DTSTAMP:20260419T191840
DTSTART:20250928T050000
DTEND:20250928T160000
SUMMARY:Pujada a Montserrat
LOCATION:Punt de trobada: Ajuntament d'Ullastrell 
METHOD:PUBLISH
X-WR-CALNAME:ullastrell@ullastrell.cat
X-WR-TIMEZONE:Europe/Madrid
DESCRIPTION:Arriba la 12ª edició d'aquesta marxa ja tradicional.

 

URI:https://www.ullastrell.cat/actualitat/agenda/6705-pujada-a-montserrat.html
CLASS:PUBLIC
END:VEVENT
END:VCALENDAR
