BEGIN:VCALENDAR
VERSION:2.0
CALSCALE:GREGORIAN
PRODID:-//Diputació de Barcelona//DibaCMS//EN
BEGIN:VEVENT
UID:6707
DTSTAMP:20260419T202543
DTSTART:20250927T173000
DTEND:20250927T210000
SUMMARY:MIOLADES. 5è Festival de microteatre
LOCATION:C/ Josep Fornell, s/n 08231 Ullastrell
METHOD:PUBLISH
X-WR-CALNAME:ullastrell@ullastrell.cat
X-WR-TIMEZONE:Europe/Madrid
DESCRIPTION:Vine a viure una experiència única!

URI:https://www.ullastrell.cat/actualitat/agenda/miolades-5e-festival-de-microteatre.html
CLASS:PUBLIC
END:VEVENT
END:VCALENDAR
