BEGIN:VCALENDAR
VERSION:2.0
CALSCALE:GREGORIAN
PRODID:-//Diputació de Barcelona//DibaCMS//EN
BEGIN:VEVENT
UID:6709
DTSTAMP:20260419T191753
DTSTART:20250930T100000
DTEND:20250930T120000
SUMMARY:XERRADA DE SALUT.  Envelleix saludable-ment
LOCATION:C/ Josep Fornell, s/n 08231 Ullastrell
METHOD:PUBLISH
X-WR-CALNAME:ullastrell@ullastrell.cat
X-WR-TIMEZONE:Europe/Madrid
DESCRIPTION:Parlarem sobre com l'activitat física i l'alimentació saludable poden ajudar a millorar l'estat d'ànim i la gestió de les emocions.

 

URI:https://www.ullastrell.cat/actualitat/agenda/xerrada-de-salut-envelleix-saludable-ment.html
CLASS:PUBLIC
END:VEVENT
END:VCALENDAR
