BEGIN:VCALENDAR
VERSION:2.0
CALSCALE:GREGORIAN
PRODID:-//Diputació de Barcelona//DibaCMS//EN
BEGIN:VEVENT
UID:6710
DTSTAMP:20260419T171523
DTSTART:20251001T170000
DTEND:20251001T203000
SUMMARY:Donació de sang 
LOCATION:C/ Josep Fornell, s/n 08231 Ullastrell
METHOD:PUBLISH
X-WR-CALNAME:ullastrell@ullastrell.cat
X-WR-TIMEZONE:Europe/Madrid
DESCRIPTION:Ullastrell acull una nova campanya  de donació de sang al Casal Cultural de 17 a 20:30 hores.

URI:https://www.ullastrell.cat/actualitat/agenda/donacio-de-sang-.html
CLASS:PUBLIC
END:VEVENT
END:VCALENDAR
