BEGIN:VCALENDAR
VERSION:2.0
CALSCALE:GREGORIAN
PRODID:-//Diputació de Barcelona//DibaCMS//EN
BEGIN:VEVENT
UID:6711
DTSTAMP:20260419T191016
DTSTART:20251001T173000
DTEND:20251001T200000
SUMMARY:Obertura Espai Jove amb activitat sorpresa
LOCATION:Plaça de les escoles, 1 08231 Ullastrell
METHOD:PUBLISH
X-WR-CALNAME:ullastrell@ullastrell.cat
X-WR-TIMEZONE:Europe/Madrid
DESCRIPTION:S’obre l’espai per a les persones joves d’Ullastrell, vine a conèixer el projecte d'aquest curs cogestionat entre l’Ajuntament d’Ullastrell i la figura educadora de l’Escolta Jove del CCVOC.

URI:https://www.ullastrell.cat/actualitat/agenda/6711-obertura-espai-jove-amb-activitat-sorpresa.html
CLASS:PUBLIC
END:VEVENT
END:VCALENDAR
