BEGIN:VCALENDAR
VERSION:2.0
CALSCALE:GREGORIAN
PRODID:-//Diputació de Barcelona//DibaCMS//EN
BEGIN:VEVENT
UID:6712
DTSTAMP:20260419T160302
DTSTART:20251002T180000
DTEND:20251002T190000
SUMMARY:Xerrada: El que ningú t'explicarà de la maternitat
LOCATION:C/ Josep Fornell, s/n 08231 Ullastrell
METHOD:PUBLISH
X-WR-CALNAME:ullastrell@ullastrell.cat
X-WR-TIMEZONE:Europe/Madrid
DESCRIPTION:En commemoració de la setmana mundial de la lactància

Què significa ser mare? Com gaudir de la maternitat quan aspirem a un ideal impossible de "mare perfecte"? Quines violències i desigualtats hem normalitzat en l'experiència materna? Ser mare i feminista és contradictori o necessari? De tot això en parlarem a la xerrada amb Esther Vivas, autora del llibre 'Mama desobedient. Una mirada feminista a la maternitat'.

URI:https://www.ullastrell.cat/actualitat/agenda/xerrada-el-que-ningu-texplicara-de-la-maternitat.html
CLASS:PUBLIC
END:VEVENT
END:VCALENDAR
