BEGIN:VCALENDAR
VERSION:2.0
CALSCALE:GREGORIAN
PRODID:-//Diputació de Barcelona//DibaCMS//EN
BEGIN:VEVENT
UID:6714
DTSTAMP:20260419T205255
DTSTART:20251008T170000
DTEND:20251008T180000
SUMMARY:Conte va conte ve: El cigne que volia conèixer el Sol
LOCATION:C/ Josep Fornell, s/n 08231 Ullastrell
METHOD:PUBLISH
X-WR-CALNAME:ullastrell@ullastrell.cat
X-WR-TIMEZONE:Europe/Madrid
DESCRIPTION:En commemoració de la setmana mundial de la lactància.

El Panxo és un preciós cigne amb unes enormes i suaus ales que sempre té fred. Aquest conte brinda l'oportunitat de vivenciar al costat del Panxo un viatge on es trobarà diversos companys d'aventura que el voldran ajudar amb les seves peripècies. Aquest conte convida a la participació dels més menuts amb l'ajuda de les seves famílies.

URI:https://www.ullastrell.cat/actualitat/agenda/conte-va-conte-ve-el-cigne-que-volia-coneixer-el-sol.html
CLASS:PUBLIC
END:VEVENT
END:VCALENDAR
