BEGIN:VCALENDAR
VERSION:2.0
CALSCALE:GREGORIAN
PRODID:-//Diputació de Barcelona//DibaCMS//EN
BEGIN:VEVENT
UID:6716
DTSTAMP:20260419T144424
DTSTART:20250928T183000
DTEND:20250928T194500
SUMMARY:Mostra de teatre - Mamma mia (sessió tarda)
LOCATION:C/ Josep Fornell, s/n 08231 Ullastrell
METHOD:PUBLISH
X-WR-CALNAME:ullastrell@ullastrell.cat
X-WR-TIMEZONE:Europe/Madrid
DESCRIPTION:Mamma mia - Grupu / Gatu

URI:https://www.ullastrell.cat/actualitat/agenda/mostra-de-teatre-mamma-mia-sessio-tarda.html
CLASS:PUBLIC
END:VEVENT
END:VCALENDAR
