BEGIN:VCALENDAR
VERSION:2.0
CALSCALE:GREGORIAN
PRODID:-//Diputació de Barcelona//DibaCMS//EN
BEGIN:VEVENT
UID:6719
DTSTAMP:20260420T200158
DTSTART:20251016T190000
DTEND:20251016T200000
SUMMARY:Parlem de llibres amb Jair Domínguez
LOCATION:C/ Josep Fornell, s/n 08231 Ullastrell
METHOD:PUBLISH
X-WR-CALNAME:ullastrell@ullastrell.cat
X-WR-TIMEZONE:Europe/Madrid
DESCRIPTION:El reconegut periodista, guionista i escriptor ens ve a presentar "Els xiprers", una novel·la brillant que explora a fons les complexitats de la condició humana.
Hi explora les particularitats de la vida adulta, amb un mosaic de personatges, cadascun amb les seves lluites i conflictes personals. 

URI:https://www.ullastrell.cat/actualitat/agenda/parlem-de-llibres-amb-jair-dominguez.html
CLASS:PUBLIC
END:VEVENT
END:VCALENDAR
