BEGIN:VCALENDAR
VERSION:2.0
CALSCALE:GREGORIAN
PRODID:-//Diputació de Barcelona//DibaCMS//EN
BEGIN:VEVENT
UID:6725
DTSTAMP:20260419T142047
DTSTART:20251007T145500
DTEND:20251007T155500
SUMMARY:Banca Mòbil de Catalunya - Caixa Enginyers
LOCATION:
METHOD:PUBLISH
X-WR-CALNAME:ullastrell@ullastrell.cat
X-WR-TIMEZONE:Europe/Madrid
DESCRIPTION:Dimarts 7 d'octubre, s'instal·larà el punt de Banca Mòbil de Catalunya on rebran els serveis d'una sucursal bancària i els atendrà personal especialitzat.  

🕣 L'horari és de 14.55h a 15.55h
📍 Davant l'Ajuntament

👉🏽Teniu més informació a l'enllaç https://economia.gencat.cat/ca/ambits-actuacio/sector-financer/bancamobil/

URI:https://www.ullastrell.cat/actualitat/agenda/banca-mobil-de-catalunya-caixa-enginyers.html
CLASS:PUBLIC
END:VEVENT
END:VCALENDAR
