BEGIN:VCALENDAR
VERSION:2.0
CALSCALE:GREGORIAN
PRODID:-//Diputació de Barcelona//DibaCMS//EN
BEGIN:VEVENT
UID:6732
DTSTAMP:20260419T173639
DTSTART:20251113T200000
DTEND:20251113T230000
SUMMARY:Jocs de taula - sessió adults 
LOCATION:C/ Josep Fornell, s/n 08231 Ullastrell
METHOD:PUBLISH
X-WR-CALNAME:ullastrell@ullastrell.cat
X-WR-TIMEZONE:Europe/Madrid
DESCRIPTION:Vine a passar una bona estona per jugar com sempre i com mai!

A càrrec de Jugarxjugar

URI:https://www.ullastrell.cat/actualitat/agenda/6732-jocs-de-taula-sessio-adults-.html
CLASS:PUBLIC
END:VEVENT
END:VCALENDAR
