BEGIN:VCALENDAR
VERSION:2.0
CALSCALE:GREGORIAN
PRODID:-//Diputació de Barcelona//DibaCMS//EN
BEGIN:VEVENT
UID:6734
DTSTAMP:20260419T171748
DTSTART:20251122T200000
DTEND:20251122T210000
SUMMARY:Espectacle: "Elles #cosasdechicas"
LOCATION:C/ Josep Fornell, s/n 08231 Ullastrell
METHOD:PUBLISH
X-WR-CALNAME:ullastrell@ullastrell.cat
X-WR-TIMEZONE:Europe/Madrid
DESCRIPTION:Una obra d’humor en femení, la comèdia més irreverent i feminista que s’ha fet mai! Elles #cosasdechicas faran un repàs dels clixés de gènere i trauran a escena, sense pèls a la llengua, tots aquells temes femenins (o no) dels que ningú parla… Però no patiu, que l’humor no entén de sexes i aquesta obra és tan per Elles com per Ells.

Venda d'entrades (5€) a www.ja.cat/entradesullastrell

Espectacle recomanat a partir de 16 anys.

URI:https://www.ullastrell.cat/actualitat/agenda/espectacle-elles-cosasdechicas.html
CLASS:PUBLIC
END:VEVENT
END:VCALENDAR
