BEGIN:VCALENDAR
VERSION:2.0
CALSCALE:GREGORIAN
PRODID:-//Diputació de Barcelona//DibaCMS//EN
BEGIN:VEVENT
UID:6735
DTSTAMP:20260420T182450
DTSTART:20251126T190000
DTEND:20251126T200000
SUMMARY:Taller d'autodefensa feminista
LOCATION:08231 Ullastrell
METHOD:PUBLISH
X-WR-CALNAME:ullastrell@ullastrell.cat
X-WR-TIMEZONE:Europe/Madrid
DESCRIPTION:Tranquem barreres i utilitzem el nostre cos. En aquest taller es planteja l'autodefensa feminista com una qüestió integral, no purament física sino també psicòlogica i social.

URI:https://www.ullastrell.cat/actualitat/agenda/taller-dautodefensa-feminista.html
CLASS:PUBLIC
END:VEVENT
END:VCALENDAR
