BEGIN:VCALENDAR
VERSION:2.0
CALSCALE:GREGORIAN
PRODID:-//Diputació de Barcelona//DibaCMS//EN
BEGIN:VEVENT
UID:6737
DTSTAMP:20260420T182230
DTSTART:20251204T180000
DTEND:20251204T190000
SUMMARY:Club de lectura amb Rosa Massagué   
LOCATION:C/ Josep Fornell, s/n 08231 Ullastrell
METHOD:PUBLISH
X-WR-CALNAME:ullastrell@ullastrell.cat
X-WR-TIMEZONE:Europe/Madrid
DESCRIPTION:Club de lectura amb Rosa Massagué

 

En aquesta sessió comentarem "La distància que ens separa", de Maggie O'Farrell. 

URI:https://www.ullastrell.cat/actualitat/agenda/6737-club-de-lectura-amb-rosa-massague-.html
CLASS:PUBLIC
END:VEVENT
END:VCALENDAR
