BEGIN:VCALENDAR
VERSION:2.0
CALSCALE:GREGORIAN
PRODID:-//Diputació de Barcelona//DibaCMS//EN
BEGIN:VEVENT
UID:6738
DTSTAMP:20260419T145950
DTSTART:20251211T170000
DTEND:20251211T190000
SUMMARY:Jocs de taula - sessió infantil-juvenil    
LOCATION:C/ Josep Fornell, s/n 08231 Ullastrell
METHOD:PUBLISH
X-WR-CALNAME:ullastrell@ullastrell.cat
X-WR-TIMEZONE:Europe/Madrid
DESCRIPTION:Vine a passar una bona estona envoltat de companyes i companys que els motiva jugar com a tu!

Organitza: Jugarxjugar

URI:https://www.ullastrell.cat/actualitat/agenda/6738-jocs-de-taula-sessio-infantil-juvenil-.html
CLASS:PUBLIC
END:VEVENT
END:VCALENDAR
