BEGIN:VCALENDAR
VERSION:2.0
CALSCALE:GREGORIAN
PRODID:-//Diputació de Barcelona//DibaCMS//EN
BEGIN:VEVENT
UID:6745
DTSTAMP:20260419T143451
DTSTART:20251002T000000
DTEND:20251008T000000
SUMMARY:SETMANA DE LA LACTÀNCIA - del 2 al 8 d'octubre
LOCATION:
METHOD:PUBLISH
X-WR-CALNAME:ullastrell@ullastrell.cat
X-WR-TIMEZONE:Europe/Madrid
DESCRIPTION:Una setmana plena d'activitats vinculades a la Lactància Materna: xerrades i trobades, contes i molt més!

Consulta el programa d'activitats al cartell adjunt.

URI:https://www.ullastrell.cat/actualitat/agenda/setmana-de-la-lactancia-del-2-al-8-doctubre.html
CLASS:PUBLIC
END:VEVENT
END:VCALENDAR
