BEGIN:VCALENDAR
VERSION:2.0
CALSCALE:GREGORIAN
PRODID:-//Diputació de Barcelona//DibaCMS//EN
BEGIN:VEVENT
UID:6755
DTSTAMP:20260419T185136
DTSTART:20251015T170000
DTEND:20251015T200000
SUMMARY:Tastet de Fútbol Flag
LOCATION:C/ Josep Fornell, s/n 08231 Ullastrell
METHOD:PUBLISH
X-WR-CALNAME:ullastrell@ullastrell.cat
X-WR-TIMEZONE:Europe/Madrid
DESCRIPTION:🔥 JOVE! Vols provar una activitat diferent i divertida?

Vine a jugar a Futbol Flag al camp de futbol d’Ullastrell! 🙌

 

📅 Dimecres 15 d’octubre

👉 Dos torns:

🕔 17.00 h: 10 a 14 anys

🕡 18.30 h: + 15 anys

URI:https://www.ullastrell.cat/actualitat/agenda/tastet-de-futbol-flag.html
CLASS:PUBLIC
END:VEVENT
END:VCALENDAR
