BEGIN:VCALENDAR
VERSION:2.0
CALSCALE:GREGORIAN
PRODID:-//Diputació de Barcelona//DibaCMS//EN
BEGIN:VEVENT
UID:6756
DTSTAMP:20260419T160324
DTSTART:20251011T080000
DTEND:20251011T170000
SUMMARY:BATUDA DEL SENGLAR 
LOCATION:
METHOD:PUBLISH
X-WR-CALNAME:ullastrell@ullastrell.cat
X-WR-TIMEZONE:Europe/Madrid
DESCRIPTION:⚠️ ATENCIÓ ⚠️
BATUDA DEL SENGLAR

Zones de BATUDA:
👉🏽 Ca N'Amat
👉🏽 Can Rodó
👉🏽 Can Palet
👉🏽 El Bolet

⚠️ Precaucions: eviteu circular per les zones de la batuda. Feu cas de les indicacions dels caçadors i de la senyalització⚠️

URI:https://www.ullastrell.cat/actualitat/agenda/batuda-del-senglar-.html
CLASS:PUBLIC
END:VEVENT
END:VCALENDAR
