BEGIN:VCALENDAR
VERSION:2.0
CALSCALE:GREGORIAN
PRODID:-//Diputació de Barcelona//DibaCMS//EN
BEGIN:VEVENT
UID:6765
DTSTAMP:20260420T182549
DTSTART:20251018T080000
DTEND:20251018T200000
SUMMARY:15ª Pujada Santa Maria de Vilalba-Ullastrell 
LOCATION:Carretera BV1202 entre Santa Maria de Vilalba i Ullastrell  
METHOD:PUBLISH
X-WR-CALNAME:ullastrell@ullastrell.cat
X-WR-TIMEZONE:Europe/Madrid
DESCRIPTION:Campionat Catalunya de muntanya. 

URI:https://www.ullastrell.cat/actualitat/agenda/15a-pujada-santa-maria-de-vilalba-ullastrell-.html
CLASS:PUBLIC
END:VEVENT
END:VCALENDAR
