BEGIN:VCALENDAR
VERSION:2.0
CALSCALE:GREGORIAN
PRODID:-//Diputació de Barcelona//DibaCMS//EN
BEGIN:VEVENT
UID:6768
DTSTAMP:20260420T214221
DTSTART:20251023T190000
DTEND:20251023T220000
SUMMARY:Ullastrell contra el càncer de mama - Oncolliga
LOCATION:C/ Josep Fornell, s/n 08231 Ullastrell
METHOD:PUBLISH
X-WR-CALNAME:ullastrell@ullastrell.cat
X-WR-TIMEZONE:Europe/Madrid
DESCRIPTION:El proper 23 d'octubre, a les 19h s'organitza al Casal d'Ullastrell, l'acte "Ullastrell contra el Càncer de mama", una commemoració organitzada per Oncolliga.

URI:https://www.ullastrell.cat/actualitat/agenda/ullastrell-contra-el-cancer-de-mama-oncolliga.html
CLASS:PUBLIC
END:VEVENT
END:VCALENDAR
