BEGIN:VCALENDAR
VERSION:2.0
CALSCALE:GREGORIAN
PRODID:-//Diputació de Barcelona//DibaCMS//EN
BEGIN:VEVENT
UID:6778
DTSTAMP:20260420T182403
DTSTART:20251029T190000
DTEND:20251029T200000
SUMMARY:Ple ordinari 29/10/2025
LOCATION:C/ Serra, 17 08231 Ullastrell
METHOD:PUBLISH
X-WR-CALNAME:ullastrell@ullastrell.cat
X-WR-TIMEZONE:Europe/Madrid
DESCRIPTION:Tipus de convocatòria: Ple Ordinari

Data i hora: 29 d'octubre de 2025 a les 19:00 h Sala de Plens de l'Ajuntament

URI:https://www.ullastrell.cat/actualitat/agenda/6778-ple-ordinari-29102025.html
CLASS:PUBLIC
END:VEVENT
END:VCALENDAR
