BEGIN:VCALENDAR
VERSION:2.0
CALSCALE:GREGORIAN
PRODID:-//Diputació de Barcelona//DibaCMS//EN
BEGIN:VEVENT
UID:6798
DTSTAMP:20260420T182242
DTSTART:20251111T190000
DTEND:20251111T210000
SUMMARY:Parlem de llibres: "La casa de les Tres Xemeneies" amb Andreu Claret
LOCATION:C/ Josep Fornell, s/n 08231 Ullastrell
METHOD:PUBLISH
X-WR-CALNAME:ullastrell@ullastrell.cat
X-WR-TIMEZONE:Europe/Madrid
DESCRIPTION:
Parlem de llibres: " La casa de les Tres Xemeneies" amb Andreu Claret

 



 Rosa Massagué

 19:00 h

Biblioteca Josep Massagué


URI:https://www.ullastrell.cat/actualitat/agenda/parlem-de-llibres-la-casa-de-les-tres-xemeneies-amb-andreu-claret.html
CLASS:PUBLIC
END:VEVENT
END:VCALENDAR
