BEGIN:VCALENDAR
VERSION:2.0
CALSCALE:GREGORIAN
PRODID:-//Diputació de Barcelona//DibaCMS//EN
BEGIN:VEVENT
UID:6801
DTSTAMP:20260420T181359
DTSTART:20251127T090000
DTEND:20251127T110000
SUMMARY:Curs de manipulació d'aliments
LOCATION:C/ Serra, 17 08231 Ullastrell
METHOD:PUBLISH
X-WR-CALNAME:ullastrell@ullastrell.cat
X-WR-TIMEZONE:Europe/Madrid
DESCRIPTION:Des de l'Ajuntament d'Ullastrell, s’ofereix un curs de manipulació d'aliments, sense cost, per a obtenir certificacions obligatòries per a totes aquelles persones que desenvolupin tasques de manipulació d'aliments de forma no particular. 

URI:https://www.ullastrell.cat/actualitat/agenda/6801-curs-de-manipulacio-daliments.html
CLASS:PUBLIC
END:VEVENT
END:VCALENDAR
