BEGIN:VCALENDAR
VERSION:2.0
CALSCALE:GREGORIAN
PRODID:-//Diputació de Barcelona//DibaCMS//EN
BEGIN:VEVENT
UID:6805
DTSTAMP:20260419T142134
DTSTART:20251119T170000
DTEND:20251119T193000
SUMMARY:Espai de trobada a l'Espai Jove
LOCATION:Plaça de les escoles, 1 08231 Ullastrell
METHOD:PUBLISH
X-WR-CALNAME:ullastrell@ullastrell.cat
X-WR-TIMEZONE:Europe/Madrid
DESCRIPTION:Vine a passar l'estona amb els teus amics i amigues!

Tu decideixes què vols fer!

 

+ info: 662 19 16 83 (Laia)

URI:https://www.ullastrell.cat/actualitat/agenda/espai-de-trobada-a-lespai-jove.html
CLASS:PUBLIC
END:VEVENT
END:VCALENDAR
