BEGIN:VCALENDAR
VERSION:2.0
CALSCALE:GREGORIAN
PRODID:-//Diputació de Barcelona//DibaCMS//EN
BEGIN:VEVENT
UID:6823
DTSTAMP:20260420T182413
DTSTART:20251126T191500
DTEND:20251126T203000
SUMMARY:Sessió de Running
LOCATION:
METHOD:PUBLISH
X-WR-CALNAME:ullastrell@ullastrell.cat
X-WR-TIMEZONE:Europe/Madrid
DESCRIPTION:
El programa d'activitats físic-esportives #janohihaexcuses (versió jove), arriba a la seva última activitat, al desembre vine a les sessions gratuïtes de RUNNING amb Jaume Leiva per l'entorn d'Ullastrell! 🏃🏼‍♀️🏃🏻🏃🏿‍♂️

Si tens més de 30 anys i vols participar, ho pots fer sempre que vinguis amb un menor de 30!!!

📲 Per inscriure's cal enviar un whatsapp al 662191683


URI:https://www.ullastrell.cat/actualitat/agenda/sessio-de-running.html
CLASS:PUBLIC
END:VEVENT
END:VCALENDAR
