BEGIN:VCALENDAR
VERSION:2.0
CALSCALE:GREGORIAN
PRODID:-//Diputació de Barcelona//DibaCMS//EN
BEGIN:VEVENT
UID:6841
DTSTAMP:20260420T182709
DTSTART:20251203T170000
DTEND:20251203T193000
SUMMARY:Espai Jove
LOCATION:
METHOD:PUBLISH
X-WR-CALNAME:ullastrell@ullastrell.cat
X-WR-TIMEZONE:Europe/Madrid
DESCRIPTION:Aquest desembre tenim activitats molt especials per acabar l’any amb energia!

🗓️ Dimecres 3 
👉 Esplai 100 Bambes
Vine a conèixer el projecte i farem creps per berenar!

📍 Espai Jove Ullastrell
📲 Inscripcions: 662 19 16 83 (Laia)

Vine a crear, expressar-te i passar-ho bé! ✨

URI:https://www.ullastrell.cat/actualitat/agenda/6841-espai-jove.html
CLASS:PUBLIC
END:VEVENT
END:VCALENDAR
