BEGIN:VCALENDAR
VERSION:2.0
CALSCALE:GREGORIAN
PRODID:-//Diputació de Barcelona//DibaCMS//EN
BEGIN:VEVENT
UID:6843
DTSTAMP:20260420T200816
DTSTART:20251201T145500
DTEND:20251201T155500
SUMMARY:Banca Mòbil de Catalunya 
LOCATION:C/ Serra, 17 08231 Ullastrell
METHOD:PUBLISH
X-WR-CALNAME:ullastrell@ullastrell.cat
X-WR-TIMEZONE:Europe/Madrid
DESCRIPTION:SERVEI DE BANCA MÒBIL DE CATALUNYA 🏦🚐

Dilluns 1 de desembre, s'instal·larà el punt de Banca Mòbil de Catalunya de Caixa d'Enginyers, per rebre com a ciutadania els serveis d'una sucursal bancària en la qual els atendrà personal especialitzat.  

🕣 Horari: de 14.55h a 15.55h
📍 Davant l'Ajuntament
👉🏽Més informació 

URI:https://www.ullastrell.cat/actualitat/agenda/6843-banca-mobil-de-catalunya-.html
CLASS:PUBLIC
END:VEVENT
END:VCALENDAR
