BEGIN:VCALENDAR
VERSION:2.0
CALSCALE:GREGORIAN
PRODID:-//Diputació de Barcelona//DibaCMS//EN
BEGIN:VEVENT
UID:6849
DTSTAMP:20260420T182730
DTSTART:20251205T000000
DTEND:20251205T000000
SUMMARY:La Biblioteca Josep Massagué
LOCATION:C/ Josep Fornell, s/n 08231 Ullastrell
METHOD:PUBLISH
X-WR-CALNAME:ullastrell@ullastrell.cat
X-WR-TIMEZONE:Europe/Madrid
DESCRIPTION:Us informem que la Biblioteca romandrà tancada avui dia 5 de desembre

URI:https://www.ullastrell.cat/actualitat/agenda/la-biblioteca-josep-massague.html
CLASS:PUBLIC
END:VEVENT
END:VCALENDAR
