BEGIN:VCALENDAR
VERSION:2.0
CALSCALE:GREGORIAN
PRODID:-//Diputació de Barcelona//DibaCMS//EN
BEGIN:VEVENT
UID:6893
DTSTAMP:20260420T140057
DTSTART:20260211T103000
DTEND:20260211T130000
SUMMARY:Oficina Mòbil d'Informació al Consumidor/a- 11/02/2026
LOCATION:C/ Serra, 17 08231 Ullastrell
METHOD:PUBLISH
X-WR-CALNAME:ullastrell@ullastrell.cat
X-WR-TIMEZONE:Europe/Madrid
DESCRIPTION:AVÍS! Diputació de Barcelona informa que el servei d'Unitat Mòbil d'Informació al Consumidor previst per avui 11 de febrer no podrà donar servei i queda anul.lat fins a nou avís.

URI:https://www.ullastrell.cat/actualitat/agenda/oficina-mobil-dinformacio-al-consumidora-11022026.html
CLASS:PUBLIC
END:VEVENT
END:VCALENDAR
