BEGIN:VCALENDAR
VERSION:2.0
CALSCALE:GREGORIAN
PRODID:-//Diputació de Barcelona//DibaCMS//EN
BEGIN:VEVENT
UID:6902
DTSTAMP:20260420T173922
DTSTART:20260124T150000
DTEND:20260124T170000
SUMMARY:Excursió oliveres centenàries
LOCATION:Sortida des del Casal Cultural.  
METHOD:PUBLISH
X-WR-CALNAME:ullastrell@ullastrell.cat
X-WR-TIMEZONE:Europe/Madrid
DESCRIPTION:Organitza Associació de Productors d’Oli d’Ullastrell, Grup de Muntanya i Ajuntament d’Ullastrell.

Guiat per Pere Palet

URI:https://www.ullastrell.cat/actualitat/agenda/6902-excursio-oliveres-centenaries.html
CLASS:PUBLIC
END:VEVENT
END:VCALENDAR
