BEGIN:VCALENDAR
VERSION:2.0
CALSCALE:GREGORIAN
PRODID:-//Diputació de Barcelona//DibaCMS//EN
BEGIN:VEVENT
UID:6905
DTSTAMP:20260420T135309
DTSTART:20260125T110000
DTEND:20260125T120000
SUMMARY:Taller de cuina familiar: pizza artesana
LOCATION:Plaça Joan Montmany 
METHOD:PUBLISH
X-WR-CALNAME:ullastrell@ullastrell.cat
X-WR-TIMEZONE:Europe/Madrid
DESCRIPTION:Vine a cuinar en família amb productes de proximitat del Parc Rural de Montserrat

URI:https://www.ullastrell.cat/actualitat/agenda/taller-de-cuina-familiar-pizza-artesana.html
CLASS:PUBLIC
END:VEVENT
END:VCALENDAR
