BEGIN:VCALENDAR
VERSION:2.0
CALSCALE:GREGORIAN
PRODID:-//Diputació de Barcelona//DibaCMS//EN
BEGIN:VEVENT
UID:6909
DTSTAMP:20260420T175019
DTSTART:20260202T103000
DTEND:20260202T120000
SUMMARY:Espai familiar
LOCATION:C/ Josep Fornell, s/n 08231 Ullastrell
METHOD:PUBLISH
X-WR-CALNAME:ullastrell@ullastrell.cat
X-WR-TIMEZONE:Europe/Madrid
DESCRIPTION:👉🏻Ens trobem a l'Espai Familiar, destinat a famílies amb nadons de 0 a 3 anys, on compartir l'experiència de la maternitat, acompanyar el nadó des del respecte i l'afecte, en el seu procés de descoberta del món. En aquesta sessió realitzarem un taller de "vision board" a partir de la reflexió personal, un espai cuidat per a tu i el teu nadó.

URI:https://www.ullastrell.cat/actualitat/agenda/espai-familiar.html
CLASS:PUBLIC
END:VEVENT
END:VCALENDAR
