BEGIN:VCALENDAR
VERSION:2.0
CALSCALE:GREGORIAN
PRODID:-//Diputació de Barcelona//DibaCMS//EN
BEGIN:VEVENT
UID:6911
DTSTAMP:20260420T135444
DTSTART:20260205T180000
DTEND:20260205T190000
SUMMARY:Club de lectura amb Rosa Massagué
LOCATION:C/ Josep Fornell, s/n 08231 Ullastrell
METHOD:PUBLISH
X-WR-CALNAME:ullastrell@ullastrell.cat
X-WR-TIMEZONE:Europe/Madrid
DESCRIPTION:Avui dijous, 5 de gener, club de lectura, "Presentes", de Paco Cerdà

🗣 Rosa Massagué
🕧18:00 h
📍Biblioteca Josep Massagué

URI:https://www.ullastrell.cat/actualitat/agenda/6911-club-de-lectura-amb-rosa-massague.html
CLASS:PUBLIC
END:VEVENT
END:VCALENDAR
