BEGIN:VCALENDAR
VERSION:2.0
CALSCALE:GREGORIAN
PRODID:-//Diputació de Barcelona//DibaCMS//EN
BEGIN:VEVENT
UID:6963
DTSTAMP:20260420T161815
DTSTART:20260412T101500
DTEND:20260412T130000
SUMMARY:DIADA DE PASQÜETES - CARAMELLES 2026
LOCATION:Can Gras 
METHOD:PUBLISH
X-WR-CALNAME:ullastrell@ullastrell.cat
X-WR-TIMEZONE:Europe/Madrid
DESCRIPTION:Sota la direcció de Nuri Palet i Josep Rodó

URI:https://www.ullastrell.cat/actualitat/agenda/diada-de-pasquetes-caramelles-2026.html
CLASS:PUBLIC
END:VEVENT
END:VCALENDAR
