BEGIN:VCALENDAR
VERSION:2.0
CALSCALE:GREGORIAN
PRODID:-//Diputació de Barcelona//DibaCMS//EN
BEGIN:VEVENT
UID:6967
DTSTAMP:20260420T143959
DTSTART:20260319T170000
DTEND:20260319T190000
SUMMARY:Jocs de taula - sessió infantil-juvenil
LOCATION:C/ Josep Fornell, s/n 08231 Ullastrell
METHOD:PUBLISH
X-WR-CALNAME:ullastrell@ullastrell.cat
X-WR-TIMEZONE:Europe/Madrid
DESCRIPTION:Organitza JugarxJugar

URI:https://www.ullastrell.cat/actualitat/agenda/6967-jocs-de-taula-sessio-infantil-juvenil.html
CLASS:PUBLIC
END:VEVENT
END:VCALENDAR
