BEGIN:VCALENDAR
VERSION:2.0
CALSCALE:GREGORIAN
PRODID:-//Diputació de Barcelona//DibaCMS//EN
BEGIN:VEVENT
UID:6968
DTSTAMP:20260420T105359
DTSTART:20260319T210000
DTEND:20260319T220000
SUMMARY:Jocs de taula - sessió adults  
LOCATION:C/ Josep Fornell, s/n 08231 Ullastrell
METHOD:PUBLISH
X-WR-CALNAME:ullastrell@ullastrell.cat
X-WR-TIMEZONE:Europe/Madrid
DESCRIPTION:Vine a passar una bona estona per jugar com sempre i com mai.

URI:https://www.ullastrell.cat/actualitat/agenda/6968-jocs-de-taula-sessio-adults-.html
CLASS:PUBLIC
END:VEVENT
END:VCALENDAR
