BEGIN:VCALENDAR
VERSION:2.0
CALSCALE:GREGORIAN
PRODID:-//Diputació de Barcelona//DibaCMS//EN
BEGIN:VEVENT
UID:7013
DTSTAMP:20260420T193538
DTSTART:20260407T090000
DTEND:20260407T120000
SUMMARY:V Setmana de la Gent Gran: PASSEJADA fins al parc de Ca n'Amat La Vall, amb xocolata i xurros
LOCATION:
METHOD:PUBLISH
X-WR-CALNAME:ullastrell@ullastrell.cat
X-WR-TIMEZONE:Europe/Madrid
DESCRIPTION:PASSEJADA fins al parc de Ca n'Amat La Vall, amb xocolata i xurros

URI:https://www.ullastrell.cat/actualitat/agenda/v-setmana-de-la-gent-gran-passejada-fins-al-parc-de-ca-namat-la-vall-amb-xocolata-i-xurros.html
CLASS:PUBLIC
END:VEVENT
END:VCALENDAR
