BEGIN:VCALENDAR
VERSION:2.0
CALSCALE:GREGORIAN
PRODID:-//Diputació de Barcelona//DibaCMS//EN
BEGIN:VEVENT
UID:7014
DTSTAMP:20260420T164212
DTSTART:20260407T183000
DTEND:20260407T200000
SUMMARY:V Setmana de la Gent Gran: TALLER: DESPERTANT CONSCIÈNCIES SOBRE L'EDATISME
LOCATION:
METHOD:PUBLISH
X-WR-CALNAME:ullastrell@ullastrell.cat
X-WR-TIMEZONE:Europe/Madrid
DESCRIPTION:TALLER: DESPERTANT CONSCIÈNCIES SOBRE L'EDATISME

Amb dinàmiques participatives transformarem la mirada social cap a l'envelliment.

A càrrec de Som Seniors

Organitza: CCVOC

URI:https://www.ullastrell.cat/actualitat/agenda/v-setmana-de-la-gent-gran-taller-despertant-consciencies-sobre-ledatisme.html
CLASS:PUBLIC
END:VEVENT
END:VCALENDAR
