BEGIN:VCALENDAR
VERSION:2.0
CALSCALE:GREGORIAN
PRODID:-//Diputació de Barcelona//DibaCMS//EN
BEGIN:VEVENT
UID:7022
DTSTAMP:20260420T131706
DTSTART:20260410T183000
DTEND:20260410T200000
SUMMARY:V Setmana de la Gent Gran: CONERT ORQUESTRINA "CALIDAE"
LOCATION:C/ Josep Fornell, s/n 08231 Ullastrell
METHOD:PUBLISH
X-WR-CALNAME:ullastrell@ullastrell.cat
X-WR-TIMEZONE:Europe/Madrid
DESCRIPTION:Amb taquilla inversa

URI:https://www.ullastrell.cat/actualitat/agenda/v-setmana-de-la-gent-gran-conert-orquestrina-calidae.html
CLASS:PUBLIC
END:VEVENT
END:VCALENDAR
