BEGIN:VCALENDAR
VERSION:2.0
CALSCALE:GREGORIAN
PRODID:-//Diputació de Barcelona//DibaCMS//EN
BEGIN:VEVENT
UID:7056
DTSTAMP:20260420T115438
DTSTART:20260513T173000
DTEND:20260513T200000
SUMMARY:Taller de cant
LOCATION:C/ Serra 37 08231 Ullastrell
METHOD:PUBLISH
X-WR-CALNAME:ullastrell@ullastrell.cat
X-WR-TIMEZONE:Europe/Madrid
DESCRIPTION:Si t'agrada cantar i tens menys de 30 anys, vine al Taller de cant amb la Coral d’Ullastrell, i descobreix el teu art i el gust per la música en grup!

URI:https://www.ullastrell.cat/actualitat/agenda/taller-de-cant.html
CLASS:PUBLIC
END:VEVENT
END:VCALENDAR
