BEGIN:VCALENDAR
VERSION:2.0
CALSCALE:GREGORIAN
PRODID:-//Diputació de Barcelona//DibaCMS//EN
BEGIN:VEVENT
UID:7058
DTSTAMP:20260419T171102
DTSTART:20260519T180000
DTEND:20260519T200000
SUMMARY:Espectacle: L'armari de l'Òliver
LOCATION:C/ Josep Fornell, s/n 08231 Ullastrell
METHOD:PUBLISH
X-WR-CALNAME:ullastrell@ullastrell.cat
X-WR-TIMEZONE:Europe/Madrid
DESCRIPTION:Descobreix l’armari de l’Òliver, un espai per explorar les pors i els dubtes d’un infant en cerca de la seva identitat. Quan el món no accepta les seves preferències, l’Òliver es refugia en un armari màgic on coneixerà personatges que compartiran les seves experiències sobre identitats i expressions de gènere. 

URI:https://www.ullastrell.cat/actualitat/agenda/espectacle-larmari-de-loliver.html
CLASS:PUBLIC
END:VEVENT
END:VCALENDAR
