BEGIN:VCALENDAR
VERSION:2.0
CALSCALE:GREGORIAN
PRODID:-//Diputació de Barcelona//DibaCMS//EN
BEGIN:VEVENT
UID:7059
DTSTAMP:20260420T204255
DTSTART:20260520T170000
DTEND:20260520T200000
SUMMARY:Abracem la diversitat
LOCATION:Plaça de les escoles, 1 08231 Ullastrell
METHOD:PUBLISH
X-WR-CALNAME:ullastrell@ullastrell.cat
X-WR-TIMEZONE:Europe/Madrid
DESCRIPTION:Activitat amb perspectiva LGTBIQA+ per ampliar mirades i celebrar la diversitat afectiva, sexual i de gènere.

URI:https://www.ullastrell.cat/actualitat/agenda/abracem-la-diversitat.html
CLASS:PUBLIC
END:VEVENT
END:VCALENDAR
