BEGIN:VCALENDAR
VERSION:2.0
CALSCALE:GREGORIAN
PRODID:-//Diputació de Barcelona//DibaCMS//EN
BEGIN:VEVENT
UID:7060
DTSTAMP:20260420T180554
DTSTART:20260521T183000
DTEND:20260521T200000
SUMMARY:Visions diverses. El col·lectiu  LGTBIQ+ al mitjà audiovisual
LOCATION:C/ Josep Fornell, s/n 08231 Ullastrell
METHOD:PUBLISH
X-WR-CALNAME:ullastrell@ullastrell.cat
X-WR-TIMEZONE:Europe/Madrid
DESCRIPTION:Com s’ha representat al cinema, la televisió o la publicitat la diversitat de gènere, sexual i afectiva? Quin és el paper de les imatges audiovisuals que ens envolten en la construcció d’imaginaris no discriminatoris, justos i equitatius? A partir del visionat i anàlisi de seqüències, coneixerem la visió que ha donat del col·lectiu LGTBI+ el cinema al llarg de la seva història, reflexionarem sobre la seva representació en el mitjà audiovisual i debatrem sobre les implicacions socials i culturals que se’n deriven.

URI:https://www.ullastrell.cat/actualitat/agenda/visions-diverses-el-collectiu-lgtbiq-al-mitja-audiovisual.html
CLASS:PUBLIC
END:VEVENT
END:VCALENDAR
