BEGIN:VCALENDAR
VERSION:2.0
CALSCALE:GREGORIAN
PRODID:-//Diputació de Barcelona//DibaCMS//EN
BEGIN:VEVENT
UID:983
DTSTAMP:20260420T161705
DTSTART:20090520T200000
DTEND:20090520T220000
SUMMARY:Cicle xerrades "Créixer amb tu 09" - 20/05/2009
LOCATION:
METHOD:PUBLISH
X-WR-CALNAME:ullastrell@ullastrell.cat
X-WR-TIMEZONE:Europe/Madrid
DESCRIPTION:Xerrada-taller " El benestar i la salut de la criatura"Cicle de xerrades- taller organitzades per la Fundació Pere Tarrés, amb la col.laboració de l'Ajuntament d'Ullastrell i la participació de l'AMPA El Cucut. La formadora que portarà a cap les xerrades serà Gemma Borraz Estruch.Lloc: LLar d'Infants El CucutOrganitzador: Fundació Pere Tarrès/Ajuntament
URI:https://www.ullastrell.cat/actualitat/agenda/cicle-xerrades-creixer-amb-tu-09-20052009.html
CLASS:PUBLIC
END:VEVENT
END:VCALENDAR
