BEGIN:VCALENDAR
VERSION:2.0
CALSCALE:GREGORIAN
PRODID:-//Diputació de Barcelona//DibaCMS//EN
BEGIN:VEVENT
UID:984
DTSTAMP:20260420T134613
DTSTART:20090606T093000
DTEND:20090606T133000
SUMMARY:Deixalleria Mòbil - 06/06/2009
LOCATION:
METHOD:PUBLISH
X-WR-CALNAME:ullastrell@ullastrell.cat
X-WR-TIMEZONE:Europe/Madrid
DESCRIPTION:Deixalleria mòbil, per reciclar tot tipus de material, olis domèstics, petits electrodomèstics, piles, etc.La deixalleria mòbil és un servei que es dona cada primer dissabte de mes, en el que un camió situat en els llocs que s'indica, recull tots aquells materials que no correspon dipositar en els contenidors habituals, com: aerosols, bateries, disolvents i pintures, piles, mòbils, ferralla i petits electrodomèstics, radiografies, lampades i fluorescents, olis de cuina, olis minerals (cotxe) toner, materials de neteja i desinfecció.
Està totalment prohibit deixar residus a la parada si no hi ha el camió.
 Lloc: Pl.LLuís Companys i Carrer Arquitecte AlsiusOrganitzador: Ajuntament
URI:https://www.ullastrell.cat/actualitat/agenda/deixalleria-mobil-06062009.html
CLASS:PUBLIC
END:VEVENT
END:VCALENDAR
