BEGIN:VCALENDAR
VERSION:2.0
CALSCALE:GREGORIAN
PRODID:-//Diputació de Barcelona//DibaCMS//EN
BEGIN:VEVENT
UID:989
DTSTAMP:20260420T135158
DTSTART:20090727T203000
DTEND:20090727T000000
SUMMARY:Ple ordinari juliol
LOCATION:
METHOD:PUBLISH
X-WR-CALNAME:ullastrell@ullastrell.cat
X-WR-TIMEZONE:Europe/Madrid
DESCRIPTION:Ple ordinari corresponent al mes de juliol
Ple ordinari corresponent al mes de juliolLloc: Sala de plens Ajuntament UllastrellOrganitzador: Ajuntament Ullastrell
URI:https://www.ullastrell.cat/actualitat/agenda/989-ple-ordinari-juliol.html
CLASS:PUBLIC
END:VEVENT
END:VCALENDAR
